{"text_format":"1","workbook":"xlsx","n_sheets":5,"sheets":["Distinta libera","Distinta agevolata","Giocatori","Accompagnatori","Liste"],"not_rendered":{"charts":0,"images":1,"macros":1,"external_links":0,"defined_names":0,"comments":2,"pivot_tables":0},"unopened":[],"bounds":{"document_bytes":16777216,"sheet_cells":100000,"rows_first":2000,"rows_last":500,"rows_between":2000,"halvings":0,"cell_chars":16384,"cell_head_chars":4096},"cells_cut":0,"cells_raw":0,"read":"whole","date_system":"1900"}

{"sheet":"Distinta libera","index":0,"n_rows":37,"n_cols":11,"rows_kept":37,"cut":false,"hidden":false,"merged":[[36,0,36,4],[36,8,36,10],[37,0,37,4],[37,8,37,10],[4,9,4,10],[28,0,28,3],[34,0,34,10],[8,8,8,10],[33,0,33,10],[32,3,32,10],[31,2,31,10],[30,3,30,10],[29,5,29,10],[27,4,27,5],[30,0,30,2],[31,0,31,1],[0,9,3,10],[5,0,5,10],[1,5,1,7],[2,5,2,7],[6,1,6,4],[6,6,6,7],[6,9,6,10],[18,4,18,5],[19,4,19,5],[32,0,32,2],[21,4,21,5],[22,4,22,5],[23,4,23,5],[24,4,24,5],[25,4,25,5],[26,4,26,5],[20,4,20,5],[8,0,9,0],[28,4,28,7],[29,0,29,4],[8,4,9,5],[10,4,10,5],[11,4,11,5],[12,4,12,5],[13,4,13,5],[14,4,14,5],[8,6,9,6],[8,1,8,3],[8,7,9,7],[15,4,15,5],[16,4,16,5],[17,4,17,5]]}
["Autore Beltrami Maurizio",null,null,null,null,null,null,null,null,"Denominazione\nSocietà\nsportiva"]
["bema@libero.it",null,null,null,null,"CAMPIONATO"]
[null,null,null,null,null,"2024/2025"]
[]
[null,null,null,null,null,null,null,null,null,"Denominazione società"]
[]
["Categoria",null,null,null,null,"Da disputare il",null,null,"a"]
[]
["N° del ruolo","Data di nascita",null,null,"Cognome e Nome",null,"Cap\nV.Cap","N° tessera ","Documento"]
[null,"G","M","A",null,null,null,null,"Tipo","Numero","Rilasciato da"]
[]
[]
[]
[]
[]
[]
[]
[]
[]
[]
[]
[]
[]
[]
[]
[]
[]
[]
["Assistente di parte dell'arbitro"]
["Dirigente accompagnatore ufficiale della squadra Sig."]
["Medico sociale - Dott."]
["Allenatore Sig."]
["Massaggiatore Sig."]
["Le persone qui sopra elencate possono essere ammesse in campo solo se in possesso delle prescritte tessere C.S.A.In valide per l'anno in corso."]
["Il sottoscritto dirigente accompagnatore ufficiale dichiara che i giocatori sopra indicati sono regolarmente tesserati e partecipano alla gara sotto la responsabilità della Società."]
[]
["L'ARBITRO",null,null,null,null,null,null,null,"IL DIRIGENTE ACCOMPAGNATORE"]

{"sheet":"Distinta agevolata","index":1,"n_rows":37,"n_cols":11,"rows_kept":37,"cut":false,"hidden":false,"merged":[[36,0,36,4],[36,8,36,10],[37,0,37,4],[37,8,37,10],[0,9,3,10],[1,5,1,7],[2,5,2,7],[4,9,4,10],[5,0,5,10],[31,0,31,1],[31,2,31,10],[32,0,32,2],[32,3,32,10],[33,0,33,10],[34,0,34,10],[28,0,28,3],[28,4,28,7],[29,0,29,4],[29,5,29,10],[30,0,30,2],[30,3,30,10],[27,4,27,5],[16,4,16,5],[17,4,17,5],[18,4,18,5],[19,4,19,5],[20,4,20,5],[21,4,21,5],[22,4,22,5],[23,4,23,5],[24,4,24,5],[25,4,25,5],[26,4,26,5],[15,4,15,5],[6,1,6,4],[6,6,6,7],[6,9,6,10],[8,0,9,0],[8,1,8,3],[8,4,9,5],[8,6,9,6],[8,7,9,7],[8,8,8,10],[10,4,10,5],[11,4,11,5],[12,4,12,5],[13,4,13,5],[14,4,14,5]]}
["Autore Beltrami Maurizio",null,null,null,null,null,null,null,null,"Denominazione\nSocietà\nsportiva"]
["bema@libero.it",null,null,null,null,"CAMPIONATO"]
[null,null,null,null,null,"2024/2025"]
[]
[null,null,null,null,null,null,null,null,null,"Denominazione società"]
[]
["Categoria",null,null,null,null,"Da disputare il",null,null,"a"]
[]
["N° del ruolo","Data di nascita",null,null,"Cognome e Nome",null," Cap  Vcap","N° tessera ","Documento"]
[null,"G","M","A",null,null,null,null,"Tipo","Numero","Rilasciato da"]
[null,{"$f":"IF($E11<>\"\",VLOOKUP($E11,Giocatori!$A$3:$H$25,2,FALSE),\"\")","v":""},{"$f":"IF($E11<>\"\",VLOOKUP($E11,Giocatori!$A$3:$H$25,3,FALSE),\"\")","v":""},{"$f":"IF($E11<>\"\",VLOOKUP($E11,Giocatori!$A$3:$H$25,4,FALSE),\"\")","v":""},null,null,null,{"$f":"IF($E11<>\"\",VLOOKUP($E11,Giocatori!$A$3:$H$25,5,FALSE),\"\")","v":""},{"$f":"IF($E11<>\"\",VLOOKUP($E11,Giocatori!$A$3:$H$25,6,FALSE),\"\")","v":""},{"$f":"IF($E11<>\"\",VLOOKUP($E11,Giocatori!$A$3:$H$25,7,FALSE),\"\")","v":""},{"$f":"IF($E11<>\"\",VLOOKUP($E11,Giocatori!$A$3:$H$25,8,FALSE),\"\")","v":""}]
[null,{"$f":"IF($E12<>\"\",VLOOKUP($E12,Giocatori!$A$3:$H$25,2,FALSE),\"\")","v":""},{"$f":"IF($E12<>\"\",VLOOKUP($E12,Giocatori!$A$3:$H$25,3,FALSE),\"\")","v":""},{"$f":"IF($E12<>\"\",VLOOKUP($E12,Giocatori!$A$3:$H$25,4,FALSE),\"\")","v":""},null,null,null,{"$f":"IF($E12<>\"\",VLOOKUP($E12,Giocatori!$A$3:$H$25,5,FALSE),\"\")","v":""},{"$f":"IF($E12<>\"\",VLOOKUP($E12,Giocatori!$A$3:$H$25,6,FALSE),\"\")","v":""},{"$f":"IF($E12<>\"\",VLOOKUP($E12,Giocatori!$A$3:$H$25,7,FALSE),\"\")","v":""},{"$f":"IF($E12<>\"\",VLOOKUP($E12,Giocatori!$A$3:$H$25,8,FALSE),\"\")","v":""}]
[null,{"$f":"IF($E13<>\"\",VLOOKUP($E13,Giocatori!$A$3:$H$25,2,FALSE),\"\")","v":""},{"$f":"IF($E13<>\"\",VLOOKUP($E13,Giocatori!$A$3:$H$25,3,FALSE),\"\")","v":""},{"$f":"IF($E13<>\"\",VLOOKUP($E13,Giocatori!$A$3:$H$25,4,FALSE),\"\")","v":""},null,null,null,{"$f":"IF($E13<>\"\",VLOOKUP($E13,Giocatori!$A$3:$H$25,5,FALSE),\"\")","v":""},{"$f":"IF($E13<>\"\",VLOOKUP($E13,Giocatori!$A$3:$H$25,6,FALSE),\"\")","v":""},{"$f":"IF($E13<>\"\",VLOOKUP($E13,Giocatori!$A$3:$H$25,7,FALSE),\"\")","v":""},{"$f":"IF($E13<>\"\",VLOOKUP($E13,Giocatori!$A$3:$H$25,8,FALSE),\"\")","v":""}]
[null,{"$f":"IF($E14<>\"\",VLOOKUP($E14,Giocatori!$A$3:$H$25,2,FALSE),\"\")","v":""},{"$f":"IF($E14<>\"\",VLOOKUP($E14,Giocatori!$A$3:$H$25,3,FALSE),\"\")","v":""},{"$f":"IF($E14<>\"\",VLOOKUP($E14,Giocatori!$A$3:$H$25,4,FALSE),\"\")","v":""},null,null,null,{"$f":"IF($E14<>\"\",VLOOKUP($E14,Giocatori!$A$3:$H$25,5,FALSE),\"\")","v":""},{"$f":"IF($E14<>\"\",VLOOKUP($E14,Giocatori!$A$3:$H$25,6,FALSE),\"\")","v":""},{"$f":"IF($E14<>\"\",VLOOKUP($E14,Giocatori!$A$3:$H$25,7,FALSE),\"\")","v":""},{"$f":"IF($E14<>\"\",VLOOKUP($E14,Giocatori!$A$3:$H$25,8,FALSE),\"\")","v":""}]
[null,{"$f":"IF($E15<>\"\",VLOOKUP($E15,Giocatori!$A$3:$H$25,2,FALSE),\"\")","v":""},{"$f":"IF($E15<>\"\",VLOOKUP($E15,Giocatori!$A$3:$H$25,3,FALSE),\"\")","v":""},{"$f":"IF($E15<>\"\",VLOOKUP($E15,Giocatori!$A$3:$H$25,4,FALSE),\"\")","v":""},null,null,null,{"$f":"IF($E15<>\"\",VLOOKUP($E15,Giocatori!$A$3:$H$25,5,FALSE),\"\")","v":""},{"$f":"IF($E15<>\"\",VLOOKUP($E15,Giocatori!$A$3:$H$25,6,FALSE),\"\")","v":""},{"$f":"IF($E15<>\"\",VLOOKUP($E15,Giocatori!$A$3:$H$25,7,FALSE),\"\")","v":""},{"$f":"IF($E15<>\"\",VLOOKUP($E15,Giocatori!$A$3:$H$25,8,FALSE),\"\")","v":""}]
[null,{"$f":"IF($E16<>\"\",VLOOKUP($E16,Giocatori!$A$3:$H$25,2,FALSE),\"\")","v":""},{"$f":"IF($E16<>\"\",VLOOKUP($E16,Giocatori!$A$3:$H$25,3,FALSE),\"\")","v":""},{"$f":"IF($E16<>\"\",VLOOKUP($E16,Giocatori!$A$3:$H$25,4,FALSE),\"\")","v":""},null,null,null,{"$f":"IF($E16<>\"\",VLOOKUP($E16,Giocatori!$A$3:$H$25,5,FALSE),\"\")","v":""},{"$f":"IF($E16<>\"\",VLOOKUP($E16,Giocatori!$A$3:$H$25,6,FALSE),\"\")","v":""},{"$f":"IF($E16<>\"\",VLOOKUP($E16,Giocatori!$A$3:$H$25,7,FALSE),\"\")","v":""},{"$f":"IF($E16<>\"\",VLOOKUP($E16,Giocatori!$A$3:$H$25,8,FALSE),\"\")","v":""}]
[null,{"$f":"IF($E17<>\"\",VLOOKUP($E17,Giocatori!$A$3:$H$25,2,FALSE),\"\")","v":""},{"$f":"IF($E17<>\"\",VLOOKUP($E17,Giocatori!$A$3:$H$25,3,FALSE),\"\")","v":""},{"$f":"IF($E17<>\"\",VLOOKUP($E17,Giocatori!$A$3:$H$25,4,FALSE),\"\")","v":""},null,null,null,{"$f":"IF($E17<>\"\",VLOOKUP($E17,Giocatori!$A$3:$H$25,5,FALSE),\"\")","v":""},{"$f":"IF($E17<>\"\",VLOOKUP($E17,Giocatori!$A$3:$H$25,6,FALSE),\"\")","v":""},{"$f":"IF($E17<>\"\",VLOOKUP($E17,Giocatori!$A$3:$H$25,7,FALSE),\"\")","v":""},{"$f":"IF($E17<>\"\",VLOOKUP($E17,Giocatori!$A$3:$H$25,8,FALSE),\"\")","v":""}]
[null,{"$f":"IF($E18<>\"\",VLOOKUP($E18,Giocatori!$A$3:$H$25,2,FALSE),\"\")","v":""},{"$f":"IF($E18<>\"\",VLOOKUP($E18,Giocatori!$A$3:$H$25,3,FALSE),\"\")","v":""},{"$f":"IF($E18<>\"\",VLOOKUP($E18,Giocatori!$A$3:$H$25,4,FALSE),\"\")","v":""},null,null,null,{"$f":"IF($E18<>\"\",VLOOKUP($E18,Giocatori!$A$3:$H$25,5,FALSE),\"\")","v":""},{"$f":"IF($E18<>\"\",VLOOKUP($E18,Giocatori!$A$3:$H$25,6,FALSE),\"\")","v":""},{"$f":"IF($E18<>\"\",VLOOKUP($E18,Giocatori!$A$3:$H$25,7,FALSE),\"\")","v":""},{"$f":"IF($E18<>\"\",VLOOKUP($E18,Giocatori!$A$3:$H$25,8,FALSE),\"\")","v":""}]
[null,{"$f":"IF($E19<>\"\",VLOOKUP($E19,Giocatori!$A$3:$H$25,2,FALSE),\"\")","v":""},{"$f":"IF($E19<>\"\",VLOOKUP($E19,Giocatori!$A$3:$H$25,3,FALSE),\"\")","v":""},{"$f":"IF($E19<>\"\",VLOOKUP($E19,Giocatori!$A$3:$H$25,4,FALSE),\"\")","v":""},null,null,null,{"$f":"IF($E19<>\"\",VLOOKUP($E19,Giocatori!$A$3:$H$25,5,FALSE),\"\")","v":""},{"$f":"IF($E19<>\"\",VLOOKUP($E19,Giocatori!$A$3:$H$25,6,FALSE),\"\")","v":""},{"$f":"IF($E19<>\"\",VLOOKUP($E19,Giocatori!$A$3:$H$25,7,FALSE),\"\")","v":""},{"$f":"IF($E19<>\"\",VLOOKUP($E19,Giocatori!$A$3:$H$25,8,FALSE),\"\")","v":""}]
[null,{"$f":"IF($E20<>\"\",VLOOKUP($E20,Giocatori!$A$3:$H$25,2,FALSE),\"\")","v":""},{"$f":"IF($E20<>\"\",VLOOKUP($E20,Giocatori!$A$3:$H$25,3,FALSE),\"\")","v":""},{"$f":"IF($E20<>\"\",VLOOKUP($E20,Giocatori!$A$3:$H$25,4,FALSE),\"\")","v":""},null,null,null,{"$f":"IF($E20<>\"\",VLOOKUP($E20,Giocatori!$A$3:$H$25,5,FALSE),\"\")","v":""},{"$f":"IF($E20<>\"\",VLOOKUP($E20,Giocatori!$A$3:$H$25,6,FALSE),\"\")","v":""},{"$f":"IF($E20<>\"\",VLOOKUP($E20,Giocatori!$A$3:$H$25,7,FALSE),\"\")","v":""},{"$f":"IF($E20<>\"\",VLOOKUP($E20,Giocatori!$A$3:$H$25,8,FALSE),\"\")","v":""}]
[null,{"$f":"IF($E21<>\"\",VLOOKUP($E21,Giocatori!$A$3:$H$25,2,FALSE),\"\")","v":""},{"$f":"IF($E21<>\"\",VLOOKUP($E21,Giocatori!$A$3:$H$25,3,FALSE),\"\")","v":""},{"$f":"IF($E21<>\"\",VLOOKUP($E21,Giocatori!$A$3:$H$25,4,FALSE),\"\")","v":""},null,null,null,{"$f":"IF($E21<>\"\",VLOOKUP($E21,Giocatori!$A$3:$H$25,5,FALSE),\"\")","v":""},{"$f":"IF($E21<>\"\",VLOOKUP($E21,Giocatori!$A$3:$H$25,6,FALSE),\"\")","v":""},{"$f":"IF($E21<>\"\",VLOOKUP($E21,Giocatori!$A$3:$H$25,7,FALSE),\"\")","v":""},{"$f":"IF($E21<>\"\",VLOOKUP($E21,Giocatori!$A$3:$H$25,8,FALSE),\"\")","v":""}]
[null,{"$f":"IF($E22<>\"\",VLOOKUP($E22,Giocatori!$A$3:$H$25,2,FALSE),\"\")","v":""},{"$f":"IF($E22<>\"\",VLOOKUP($E22,Giocatori!$A$3:$H$25,3,FALSE),\"\")","v":""},{"$f":"IF($E22<>\"\",VLOOKUP($E22,Giocatori!$A$3:$H$25,4,FALSE),\"\")","v":""},null,null,null,{"$f":"IF($E22<>\"\",VLOOKUP($E22,Giocatori!$A$3:$H$25,5,FALSE),\"\")","v":""},{"$f":"IF($E22<>\"\",VLOOKUP($E22,Giocatori!$A$3:$H$25,6,FALSE),\"\")","v":""},{"$f":"IF($E22<>\"\",VLOOKUP($E22,Giocatori!$A$3:$H$25,7,FALSE),\"\")","v":""},{"$f":"IF($E22<>\"\",VLOOKUP($E22,Giocatori!$A$3:$H$25,8,FALSE),\"\")","v":""}]
[null,{"$f":"IF($E23<>\"\",VLOOKUP($E23,Giocatori!$A$3:$H$25,2,FALSE),\"\")","v":""},{"$f":"IF($E23<>\"\",VLOOKUP($E23,Giocatori!$A$3:$H$25,3,FALSE),\"\")","v":""},{"$f":"IF($E23<>\"\",VLOOKUP($E23,Giocatori!$A$3:$H$25,4,FALSE),\"\")","v":""},null,null,null,{"$f":"IF($E23<>\"\",VLOOKUP($E23,Giocatori!$A$3:$H$25,5,FALSE),\"\")","v":""},{"$f":"IF($E23<>\"\",VLOOKUP($E23,Giocatori!$A$3:$H$25,6,FALSE),\"\")","v":""},{"$f":"IF($E23<>\"\",VLOOKUP($E23,Giocatori!$A$3:$H$25,7,FALSE),\"\")","v":""},{"$f":"IF($E23<>\"\",VLOOKUP($E23,Giocatori!$A$3:$H$25,8,FALSE),\"\")","v":""}]
[null,{"$f":"IF($E24<>\"\",VLOOKUP($E24,Giocatori!$A$3:$H$25,2,FALSE),\"\")","v":""},{"$f":"IF($E24<>\"\",VLOOKUP($E24,Giocatori!$A$3:$H$25,3,FALSE),\"\")","v":""},{"$f":"IF($E24<>\"\",VLOOKUP($E24,Giocatori!$A$3:$H$25,4,FALSE),\"\")","v":""},null,null,null,{"$f":"IF($E24<>\"\",VLOOKUP($E24,Giocatori!$A$3:$H$25,5,FALSE),\"\")","v":""},{"$f":"IF($E24<>\"\",VLOOKUP($E24,Giocatori!$A$3:$H$25,6,FALSE),\"\")","v":""},{"$f":"IF($E24<>\"\",VLOOKUP($E24,Giocatori!$A$3:$H$25,7,FALSE),\"\")","v":""},{"$f":"IF($E24<>\"\",VLOOKUP($E24,Giocatori!$A$3:$H$25,8,FALSE),\"\")","v":""}]
[null,{"$f":"IF($E25<>\"\",VLOOKUP($E25,Giocatori!$A$3:$H$25,2,FALSE),\"\")","v":""},{"$f":"IF($E25<>\"\",VLOOKUP($E25,Giocatori!$A$3:$H$25,3,FALSE),\"\")","v":""},{"$f":"IF($E25<>\"\",VLOOKUP($E25,Giocatori!$A$3:$H$25,4,FALSE),\"\")","v":""},null,null,null,{"$f":"IF($E25<>\"\",VLOOKUP($E25,Giocatori!$A$3:$H$25,5,FALSE),\"\")","v":""},{"$f":"IF($E25<>\"\",VLOOKUP($E25,Giocatori!$A$3:$H$25,6,FALSE),\"\")","v":""},{"$f":"IF($E25<>\"\",VLOOKUP($E25,Giocatori!$A$3:$H$25,7,FALSE),\"\")","v":""},{"$f":"IF($E25<>\"\",VLOOKUP($E25,Giocatori!$A$3:$H$25,8,FALSE),\"\")","v":""}]
[null,{"$f":"IF($E26<>\"\",VLOOKUP($E26,Giocatori!$A$3:$H$25,2,FALSE),\"\")","v":""},{"$f":"IF($E26<>\"\",VLOOKUP($E26,Giocatori!$A$3:$H$25,3,FALSE),\"\")","v":""},{"$f":"IF($E26<>\"\",VLOOKUP($E26,Giocatori!$A$3:$H$25,4,FALSE),\"\")","v":""},null,null,null,{"$f":"IF($E26<>\"\",VLOOKUP($E26,Giocatori!$A$3:$H$25,5,FALSE),\"\")","v":""},{"$f":"IF($E26<>\"\",VLOOKUP($E26,Giocatori!$A$3:$H$25,6,FALSE),\"\")","v":""},{"$f":"IF($E26<>\"\",VLOOKUP($E26,Giocatori!$A$3:$H$25,7,FALSE),\"\")","v":""},{"$f":"IF($E26<>\"\",VLOOKUP($E26,Giocatori!$A$3:$H$25,8,FALSE),\"\")","v":""}]
[null,{"$f":"IF($E27<>\"\",VLOOKUP($E27,Giocatori!$A$3:$H$25,2,FALSE),\"\")","v":""},{"$f":"IF($E27<>\"\",VLOOKUP($E27,Giocatori!$A$3:$H$25,3,FALSE),\"\")","v":""},{"$f":"IF($E27<>\"\",VLOOKUP($E27,Giocatori!$A$3:$H$25,4,FALSE),\"\")","v":""},null,null,null,{"$f":"IF($E27<>\"\",VLOOKUP($E27,Giocatori!$A$3:$H$25,5,FALSE),\"\")","v":""},{"$f":"IF($E27<>\"\",VLOOKUP($E27,Giocatori!$A$3:$H$25,6,FALSE),\"\")","v":""},{"$f":"IF($E27<>\"\",VLOOKUP($E27,Giocatori!$A$3:$H$25,7,FALSE),\"\")","v":""},{"$f":"IF($E27<>\"\",VLOOKUP($E27,Giocatori!$A$3:$H$25,8,FALSE),\"\")","v":""}]
[null,{"$f":"IF($E28<>\"\",VLOOKUP($E28,Giocatori!$A$3:$H$25,2,FALSE),\"\")","v":""},{"$f":"IF($E28<>\"\",VLOOKUP($E28,Giocatori!$A$3:$H$25,3,FALSE),\"\")","v":""},{"$f":"IF($E28<>\"\",VLOOKUP($E28,Giocatori!$A$3:$H$25,4,FALSE),\"\")","v":""},null,null,null,{"$f":"IF($E28<>\"\",VLOOKUP($E28,Giocatori!$A$3:$H$25,5,FALSE),\"\")","v":""},{"$f":"IF($E28<>\"\",VLOOKUP($E28,Giocatori!$A$3:$H$25,6,FALSE),\"\")","v":""},{"$f":"IF($E28<>\"\",VLOOKUP($E28,Giocatori!$A$3:$H$25,7,FALSE),\"\")","v":""},{"$f":"IF($E28<>\"\",VLOOKUP($E28,Giocatori!$A$3:$H$25,8,FALSE),\"\")","v":""}]
["Assistente di parte dell'arbitro"]
["Dirigente accompagnatore ufficiale della squadra Sig."]
["Medico sociale - Dott."]
["Allenatore Sig."]
["Massaggiatore Sig."]
["Le persone qui sopra elencate possono essere ammesse in campo solo se in possesso delle prescritte tessere C.S.A.In valide per l'anno in corso."]
["Il sottoscritto dirigente accompagnatore ufficiale dichiara che i giocatori sopra indicati sono regolarmente tesserati e partecipano alla gara sotto la responsabilità della Società."]
[]
["L'ARBITRO",null,null,null,null,null,null,null,"IL DIRIGENTE ACCOMPAGNATORE"]

{"sheet":"Giocatori","index":2,"n_rows":2,"n_cols":8,"rows_kept":2,"cut":false,"hidden":false,"merged":[[0,1,0,3],[0,0,1,0],[0,4,1,4],[0,5,0,7]]}
["Cognome e nome","Data di nascita",null,null,"Tessera n°","Documento"]
[null,"Giorno","Mese","Anno",null,"Tipo","Numero","Rilasciato da"]

{"sheet":"Accompagnatori","index":3,"n_rows":2,"n_cols":9,"rows_kept":2,"cut":false,"hidden":false,"merged":[[0,0,1,0],[0,1,0,3],[0,4,1,4],[0,5,0,7],[0,8,1,8]]}
["Cognome e nome","Data di nascita",null,null,"Tessera n°","Documento",null,null,"Funzione"]
[null,"Giorno","Mese","Anno",null,"Tipo","Numero","Rilasciato da"]

{"sheet":"Liste","index":4,"n_rows":14,"n_cols":8,"rows_kept":14,"cut":false,"hidden":false,"merged":[]}
["Sigla","Descrizione",null,"Categorie",null,"Campo"]
["CI","Carta d'identità",null,"MINI",null,"ARTOGNE AQUILA",null,1]
["PAT","Patente",null,"MICRO",null,"BERZO INFERIORE",null,2]
["PASS","Passaporto",null,"SCARABOCCHIO",null,"BRANICO",null,3]
["PERSOG","Permesso di soggiorno",null,"ASPIRANTI",null,"CAPO DI PONTE",null,4]
[null,null,null,null,null,"EDOLO",null,5]
[null,null,null,null,null,"GORZONE",null,6]
[null,null,null,null,null,"LOVERE",null,7]
[null,null,null,null,null,"MALONNO",null,8]
[null,null,null,null,null,"PIAMBORNO",null,9]
[null,null,null,null,null,"PIANO",null,10]
[null,null,null,null,null,"PISOGNE",null,11]
[null,null,null,null,null,"RONDINERA",null,12]
[null,null,null,null,null,null,null,13]